Package: biocViews Version: 1.60.0 Command: C:\Users\biocbuild\bbs-3.13-bioc\R\bin\R.exe CMD check --force-multiarch --install=check:biocViews.install-out.txt --library=C:\Users\biocbuild\bbs-3.13-bioc\R\library --no-vignettes --timings biocViews_1.60.0.tar.gz StartedAt: 2021-10-14 20:13:36 -0400 (Thu, 14 Oct 2021) EndedAt: 2021-10-14 20:17:34 -0400 (Thu, 14 Oct 2021) EllapsedTime: 237.8 seconds RetCode: 0 Status: OK CheckDir: biocViews.Rcheck Warnings: 0