Package: biocViews Version: 1.60.0 Command: /Library/Frameworks/R.framework/Versions/Current/Resources/bin/R CMD INSTALL biocViews StartedAt: 2021-10-14 08:39:47 -0400 (Thu, 14 Oct 2021) EndedAt: 2021-10-14 08:40:40 -0400 (Thu, 14 Oct 2021) EllapsedTime: 53.7 seconds RetCode: 0 Status: OK