Package: biocGraph Version: 1.54.0 Command: /Library/Frameworks/R.framework/Versions/Current/Resources/bin/R CMD check --install=check:biocGraph.install-out.txt --library=/Library/Frameworks/R.framework/Versions/Current/Resources/library --no-vignettes --timings biocGraph_1.54.0.tar.gz StartedAt: 2021-10-14 16:44:19 -0400 (Thu, 14 Oct 2021) EndedAt: 2021-10-14 16:46:22 -0400 (Thu, 14 Oct 2021) EllapsedTime: 122.8 seconds RetCode: 0 Status: OK CheckDir: biocGraph.Rcheck Warnings: 0