Package: bioDist Version: 1.64.0 Command: chmod a+r bioDist -R && C:\Users\biocbuild\bbs-3.13-bioc\R\bin\R.exe CMD build --keep-empty-dirs --no-resave-data bioDist StartedAt: 2021-10-14 12:05:35 -0400 (Thu, 14 Oct 2021) EndedAt: 2021-10-14 12:06:13 -0400 (Thu, 14 Oct 2021) EllapsedTime: 37.7 seconds RetCode: 0 Status: OK PackageFile: bioDist_1.64.0.tar.gz PackageFileSize: 125.9 KiB