Package: bioDist Version: 1.64.0 Command: rm -rf bioDist.buildbin-libdir && mkdir bioDist.buildbin-libdir && /Users/biocbuild/BBS/utils/build-universal.sh bioDist_1.64.0.tar.gz /Library/Frameworks/R.framework/Versions/Current/Resources/bin/R bioDist.buildbin-libdir StartedAt: 2021-10-15 01:44:50 -0400 (Fri, 15 Oct 2021) EndedAt: 2021-10-15 01:46:02 -0400 (Fri, 15 Oct 2021) EllapsedTime: 72.3 seconds RetCode: 0 Status: OK PackageFile: bioDist_1.64.0.tgz PackageFileSize: 173.5 KiB