Package: bioCancer Version: 1.20.02 Command: rm -rf bioCancer.buildbin-libdir && mkdir bioCancer.buildbin-libdir && C:\Users\biocbuild\bbs-3.13-bioc\R\bin\R.exe CMD INSTALL --merge-multiarch --build --library=bioCancer.buildbin-libdir bioCancer_1.20.02.tar.gz StartedAt: 2021-10-15 08:12:50 -0400 (Fri, 15 Oct 2021) EndedAt: 2021-10-15 08:14:26 -0400 (Fri, 15 Oct 2021) EllapsedTime: 95.6 seconds RetCode: 0 Status: OK PackageFile: bioCancer_1.20.02.zip PackageFileSize: 6.551 MiB