Package: bioCancer Version: 1.20.02 Command: /home/biocbuild/bbs-3.13-bioc/R/bin/R CMD check --install=check:bioCancer.install-out.txt --library=/home/biocbuild/bbs-3.13-bioc/R/library --no-vignettes --timings bioCancer_1.20.02.tar.gz StartedAt: 2021-10-14 09:00:57 -0400 (Thu, 14 Oct 2021) EndedAt: 2021-10-14 09:05:09 -0400 (Thu, 14 Oct 2021) EllapsedTime: 252.3 seconds RetCode: 0 Status: OK CheckDir: bioCancer.Rcheck Warnings: 0