Package: bioCancer Version: 1.20.02 Command: /Library/Frameworks/R.framework/Versions/Current/Resources/bin/R CMD check --install=check:bioCancer.install-out.txt --library=/Library/Frameworks/R.framework/Versions/Current/Resources/library --no-vignettes --timings bioCancer_1.20.02.tar.gz StartedAt: 2021-10-14 16:43:22 -0400 (Thu, 14 Oct 2021) EndedAt: 2021-10-14 16:47:29 -0400 (Thu, 14 Oct 2021) EllapsedTime: 246.9 seconds RetCode: 0 Status: OK CheckDir: bioCancer.Rcheck Warnings: 0