git_url: https://git.bioconductor.org/packages/bioCancer git_branch: RELEASE_3_13 git_last_commit: 19fc7ba git_last_commit_date: 2021-06-30 07:34:37 -0400 (Wed, 30 Jun 2021) Package: bioCancer Version: 1.20.02 Maintainer: Karim Mezhoud MaintainerEmail: kmezhoud at gmail.com