Package: bigmelon Version: 1.18.0 Command: /Library/Frameworks/R.framework/Versions/Current/Resources/bin/R CMD INSTALL bigmelon StartedAt: 2021-10-14 10:13:46 -0400 (Thu, 14 Oct 2021) EndedAt: 2021-10-14 10:14:44 -0400 (Thu, 14 Oct 2021) EllapsedTime: 58.7 seconds RetCode: 0 Status: OK