Package: bigPint Version: 1.8.0 Command: rm -rf bigPint.buildbin-libdir && mkdir bigPint.buildbin-libdir && /Users/biocbuild/BBS/utils/build-universal.sh bigPint_1.8.0.tar.gz /Library/Frameworks/R.framework/Versions/Current/Resources/bin/R bigPint.buildbin-libdir StartedAt: 2021-10-15 01:42:25 -0400 (Fri, 15 Oct 2021) EndedAt: 2021-10-15 01:43:35 -0400 (Fri, 15 Oct 2021) EllapsedTime: 70.3 seconds RetCode: 0 Status: OK PackageFile: bigPint_1.8.0.tgz PackageFileSize: 5.598 MiB