Package: beadarray Version: 2.42.0 Command: /home/biocbuild/bbs-3.13-bioc/R/bin/R CMD check --install=check:beadarray.install-out.txt --library=/home/biocbuild/bbs-3.13-bioc/R/library --no-vignettes --timings beadarray_2.42.0.tar.gz StartedAt: 2021-10-14 08:58:35 -0400 (Thu, 14 Oct 2021) EndedAt: 2021-10-14 09:05:01 -0400 (Thu, 14 Oct 2021) EllapsedTime: 385.7 seconds RetCode: 0 Status: OK CheckDir: beadarray.Rcheck Warnings: 0