Package: bcSeq Version: 1.14.0 Command: C:\Users\biocbuild\bbs-3.13-bioc\R\bin\R.exe CMD check --force-multiarch --install=check:bcSeq.install-out.txt --library=C:\Users\biocbuild\bbs-3.13-bioc\R\library --no-vignettes --timings bcSeq_1.14.0.tar.gz StartedAt: 2021-10-14 19:58:43 -0400 (Thu, 14 Oct 2021) EndedAt: 2021-10-14 20:01:35 -0400 (Thu, 14 Oct 2021) EllapsedTime: 172.5 seconds RetCode: 0 Status: WARNINGS CheckDir: bcSeq.Rcheck Warnings: 1