Package: bcSeq Version: 1.14.0 Command: chmod a+r bcSeq -R && C:\Users\biocbuild\bbs-3.13-bioc\R\bin\R.exe CMD build --keep-empty-dirs --no-resave-data bcSeq StartedAt: 2021-10-14 11:57:03 -0400 (Thu, 14 Oct 2021) EndedAt: 2021-10-14 11:59:05 -0400 (Thu, 14 Oct 2021) EllapsedTime: 121.5 seconds RetCode: 0 Status: OK PackageFile: bcSeq_1.14.0.tar.gz PackageFileSize: 224.8 KiB