Package: baySeq Version: 2.26.0 Command: chmod a+r baySeq -R && C:\Users\biocbuild\bbs-3.13-bioc\R\bin\R.exe CMD build --keep-empty-dirs --no-resave-data baySeq StartedAt: 2021-10-14 11:56:29 -0400 (Thu, 14 Oct 2021) EndedAt: 2021-10-14 12:01:18 -0400 (Thu, 14 Oct 2021) EllapsedTime: 288.6 seconds RetCode: 0 Status: OK PackageFile: baySeq_2.26.0.tar.gz PackageFileSize: 1.1 MiB