Package: baySeq Version: 2.26.0 Command: /home/biocbuild/bbs-3.13-bioc/R/bin/R CMD build --keep-empty-dirs --no-resave-data baySeq StartedAt: 2021-10-14 06:44:55 -0400 (Thu, 14 Oct 2021) EndedAt: 2021-10-14 06:48:08 -0400 (Thu, 14 Oct 2021) EllapsedTime: 193.3 seconds RetCode: 0 Status: OK PackageFile: baySeq_2.26.0.tar.gz PackageFileSize: 1.097 MiB