Package: baySeq Version: 2.26.0 Command: /Library/Frameworks/R.framework/Versions/Current/Resources/bin/R CMD check --install=check:baySeq.install-out.txt --library=/Library/Frameworks/R.framework/Versions/Current/Resources/library --no-vignettes --timings baySeq_2.26.0.tar.gz StartedAt: 2021-10-14 16:34:15 -0400 (Thu, 14 Oct 2021) EndedAt: 2021-10-14 16:38:47 -0400 (Thu, 14 Oct 2021) EllapsedTime: 272.6 seconds RetCode: 0 Status: OK CheckDir: baySeq.Rcheck Warnings: 0