Package: baySeq Version: 2.26.0 Command: /Library/Frameworks/R.framework/Versions/Current/Resources/bin/R CMD build --keep-empty-dirs --no-resave-data baySeq StartedAt: 2021-10-14 10:44:33 -0400 (Thu, 14 Oct 2021) EndedAt: 2021-10-14 10:52:16 -0400 (Thu, 14 Oct 2021) EllapsedTime: 462.7 seconds RetCode: 0 Status: OK PackageFile: baySeq_2.26.0.tar.gz PackageFileSize: 1.097 MiB