Package: basilisk Version: 1.4.0 Command: rm -rf basilisk.buildbin-libdir && mkdir basilisk.buildbin-libdir && /Users/biocbuild/BBS/utils/build-universal.sh basilisk_1.4.0.tar.gz /Library/Frameworks/R.framework/Versions/Current/Resources/bin/R basilisk.buildbin-libdir StartedAt: 2021-10-15 01:39:52 -0400 (Fri, 15 Oct 2021) EndedAt: 2021-10-15 01:40:54 -0400 (Fri, 15 Oct 2021) EllapsedTime: 61.9 seconds RetCode: 0 Status: OK PackageFile: basilisk_1.4.0.tgz PackageFileSize: 283 KiB