Package: basecallQC Version: 1.16.0 Command: /Library/Frameworks/R.framework/Versions/Current/Resources/bin/R CMD build --keep-empty-dirs --no-resave-data basecallQC StartedAt: 2021-10-14 10:43:06 -0400 (Thu, 14 Oct 2021) EndedAt: 2021-10-14 10:44:51 -0400 (Thu, 14 Oct 2021) EllapsedTime: 105.5 seconds RetCode: 0 Status: OK PackageFile: basecallQC_1.16.0.tar.gz PackageFileSize: 1.463 MiB