Package: bamsignals Version: 1.24.0 Command: rm -rf bamsignals.buildbin-libdir && mkdir bamsignals.buildbin-libdir && C:\Users\biocbuild\bbs-3.13-bioc\R\bin\R.exe CMD INSTALL --merge-multiarch --build --library=bamsignals.buildbin-libdir bamsignals_1.24.0.tar.gz StartedAt: 2021-10-15 08:06:53 -0400 (Fri, 15 Oct 2021) EndedAt: 2021-10-15 08:09:39 -0400 (Fri, 15 Oct 2021) EllapsedTime: 166.1 seconds RetCode: 0 Status: OK PackageFile: bamsignals_1.24.0.zip PackageFileSize: 4.852 MiB