git_url: https://git.bioconductor.org/packages/ballgown git_branch: RELEASE_3_13 git_last_commit: 34829e1 git_last_commit_date: 2021-05-19 12:06:23 -0400 (Wed, 19 May 2021) Package: ballgown Version: 2.24.0 Maintainer: Jack Fu MaintainerEmail: jmfu at jhsph.edu