Package: atSNP Version: 1.8.0 Command: /Library/Frameworks/R.framework/Versions/Current/Resources/bin/R CMD INSTALL atSNP StartedAt: 2021-10-14 09:59:09 -0400 (Thu, 14 Oct 2021) EndedAt: 2021-10-14 10:00:15 -0400 (Thu, 14 Oct 2021) EllapsedTime: 66.0 seconds RetCode: 0 Status: OK