Package: atSNP Version: 1.8.0 Command: /Library/Frameworks/R.framework/Versions/Current/Resources/bin/R CMD check --install=check:atSNP.install-out.txt --library=/Library/Frameworks/R.framework/Versions/Current/Resources/library --no-vignettes --timings atSNP_1.8.0.tar.gz StartedAt: 2021-10-14 16:24:09 -0400 (Thu, 14 Oct 2021) EndedAt: 2021-10-14 16:30:09 -0400 (Thu, 14 Oct 2021) EllapsedTime: 359.5 seconds RetCode: 0 Status: OK CheckDir: atSNP.Rcheck Warnings: 0