Package: artMS Version: 1.10.2 Command: /home/biocbuild/bbs-3.13-bioc/R/bin/R CMD build --keep-empty-dirs --no-resave-data artMS StartedAt: 2021-10-14 06:42:33 -0400 (Thu, 14 Oct 2021) EndedAt: 2021-10-14 06:43:18 -0400 (Thu, 14 Oct 2021) EllapsedTime: 45.0 seconds RetCode: 0 Status: OK PackageFile: artMS_1.10.2.tar.gz PackageFileSize: 2.751 MiB