Package: artMS Version: 1.10.2 Command: /Library/Frameworks/R.framework/Versions/Current/Resources/bin/R CMD build --keep-empty-dirs --no-resave-data artMS StartedAt: 2021-10-14 10:39:02 -0400 (Thu, 14 Oct 2021) EndedAt: 2021-10-14 10:40:01 -0400 (Thu, 14 Oct 2021) EllapsedTime: 59.5 seconds RetCode: 0 Status: OK PackageFile: artMS_1.10.2.tar.gz PackageFileSize: 2.735 MiB