Package: arrayQualityMetrics Version: 3.48.0 Command: C:\Users\biocbuild\bbs-3.13-bioc\R\bin\R.exe CMD check --force-multiarch --install=check:arrayQualityMetrics.install-out.txt --library=C:\Users\biocbuild\bbs-3.13-bioc\R\library --no-vignettes --timings arrayQualityMetrics_3.48.0.tar.gz StartedAt: 2021-10-14 19:38:35 -0400 (Thu, 14 Oct 2021) EndedAt: 2021-10-14 19:42:02 -0400 (Thu, 14 Oct 2021) EllapsedTime: 206.8 seconds RetCode: 0 Status: OK CheckDir: arrayQualityMetrics.Rcheck Warnings: 0