Package: arrayQualityMetrics Version: 3.48.0 Command: /home/biocbuild/bbs-3.13-bioc/R/bin/R CMD INSTALL arrayQualityMetrics StartedAt: 2021-10-14 06:17:46 -0400 (Thu, 14 Oct 2021) EndedAt: 2021-10-14 06:18:08 -0400 (Thu, 14 Oct 2021) EllapsedTime: 22.0 seconds RetCode: 0 Status: OK