Package: arrayQualityMetrics Version: 3.48.0 Command: /home/biocbuild/bbs-3.13-bioc/R/bin/R CMD build --keep-empty-dirs --no-resave-data arrayQualityMetrics StartedAt: 2021-10-14 06:42:28 -0400 (Thu, 14 Oct 2021) EndedAt: 2021-10-14 06:49:30 -0400 (Thu, 14 Oct 2021) EllapsedTime: 422.1 seconds RetCode: 0 Status: OK PackageFile: arrayQualityMetrics_3.48.0.tar.gz PackageFileSize: 588.3 KiB