Package: arrayMvout Version: 1.50.0 Command: /Library/Frameworks/R.framework/Versions/Current/Resources/bin/R CMD check --install=check:arrayMvout.install-out.txt --library=/Library/Frameworks/R.framework/Versions/Current/Resources/library --no-vignettes --timings arrayMvout_1.50.0.tar.gz StartedAt: 2021-10-14 16:19:30 -0400 (Thu, 14 Oct 2021) EndedAt: 2021-10-14 16:25:17 -0400 (Thu, 14 Oct 2021) EllapsedTime: 347.7 seconds RetCode: 0 Status: OK CheckDir: arrayMvout.Rcheck Warnings: 0