Package: arrayMvout Version: 1.50.0 Command: /Library/Frameworks/R.framework/Versions/Current/Resources/bin/R CMD build --keep-empty-dirs --no-resave-data arrayMvout StartedAt: 2021-10-14 10:37:59 -0400 (Thu, 14 Oct 2021) EndedAt: 2021-10-14 10:39:13 -0400 (Thu, 14 Oct 2021) EllapsedTime: 73.8 seconds RetCode: 0 Status: OK PackageFile: arrayMvout_1.50.0.tar.gz PackageFileSize: 581.2 KiB