git_url: https://git.bioconductor.org/packages/arrayMvout git_branch: RELEASE_3_13 git_last_commit: c59319e git_last_commit_date: 2021-05-19 11:42:11 -0400 (Wed, 19 May 2021) Package: arrayMvout Version: 1.50.0 Maintainer: V. Carey MaintainerEmail: stvjc at channing.harvard.edu