Package: annotate Version: 1.70.0 Command: /Library/Frameworks/R.framework/Versions/Current/Resources/bin/R CMD build --keep-empty-dirs --no-resave-data annotate StartedAt: 2021-10-14 10:35:27 -0400 (Thu, 14 Oct 2021) EndedAt: 2021-10-14 10:36:58 -0400 (Thu, 14 Oct 2021) EllapsedTime: 90.3 seconds RetCode: 0 Status: OK PackageFile: annotate_1.70.0.tar.gz PackageFileSize: 1.685 MiB