Package: annaffy Version: 1.64.2 Command: /home/biocbuild/bbs-3.13-bioc/R/bin/R CMD check --install=check:annaffy.install-out.txt --library=/home/biocbuild/bbs-3.13-bioc/R/library --no-vignettes --timings annaffy_1.64.2.tar.gz StartedAt: 2021-10-14 08:51:11 -0400 (Thu, 14 Oct 2021) EndedAt: 2021-10-14 08:52:51 -0400 (Thu, 14 Oct 2021) EllapsedTime: 100.1 seconds RetCode: 0 Status: WARNINGS CheckDir: annaffy.Rcheck Warnings: 1