Package: annaffy Version: 1.64.2 Command: /Library/Frameworks/R.framework/Versions/Current/Resources/bin/R CMD check --install=check:annaffy.install-out.txt --library=/Library/Frameworks/R.framework/Versions/Current/Resources/library --no-vignettes --timings annaffy_1.64.2.tar.gz StartedAt: 2021-10-14 16:13:23 -0400 (Thu, 14 Oct 2021) EndedAt: 2021-10-14 16:15:51 -0400 (Thu, 14 Oct 2021) EllapsedTime: 148.5 seconds RetCode: 0 Status: WARNINGS CheckDir: annaffy.Rcheck Warnings: 1