Package: altcdfenvs Version: 2.54.0 Command: /home/biocbuild/bbs-3.13-bioc/R/bin/R CMD build --keep-empty-dirs --no-resave-data altcdfenvs StartedAt: 2021-10-14 06:41:10 -0400 (Thu, 14 Oct 2021) EndedAt: 2021-10-14 06:41:51 -0400 (Thu, 14 Oct 2021) EllapsedTime: 41.2 seconds RetCode: 0 Status: OK PackageFile: altcdfenvs_2.54.0.tar.gz PackageFileSize: 373.2 KiB