Package: alsace Version: 1.28.0 Command: chmod a+r alsace -R && C:\Users\biocbuild\bbs-3.13-bioc\R\bin\R.exe CMD build --keep-empty-dirs --no-resave-data alsace StartedAt: 2021-10-14 11:38:44 -0400 (Thu, 14 Oct 2021) EndedAt: 2021-10-14 11:39:36 -0400 (Thu, 14 Oct 2021) EllapsedTime: 52.0 seconds RetCode: 0 Status: OK PackageFile: alsace_1.28.0.tar.gz PackageFileSize: 1.385 MiB