git_url: https://git.bioconductor.org/packages/agilp git_branch: RELEASE_3_13 git_last_commit: 3346a25 git_last_commit_date: 2021-05-19 11:54:07 -0400 (Wed, 19 May 2021) Package: agilp Version: 3.24.0 Maintainer: Benny Chain MaintainerEmail: b.chain at ucl.ac.uk