git_url: https://git.bioconductor.org/packages/aggregateBioVar git_branch: RELEASE_3_13 git_last_commit: 70ba9dd git_last_commit_date: 2021-05-19 12:56:03 -0400 (Wed, 19 May 2021) Package: aggregateBioVar Version: 1.2.0 Maintainer: Jason Ratcliff MaintainerEmail: jason-ratcliff at uiowa.edu