Package: affycomp Version: 1.68.0 Command: chmod a+r affycomp -R && C:\Users\biocbuild\bbs-3.13-bioc\R\bin\R.exe CMD build --keep-empty-dirs --no-resave-data affycomp StartedAt: 2021-10-14 11:34:21 -0400 (Thu, 14 Oct 2021) EndedAt: 2021-10-14 11:35:16 -0400 (Thu, 14 Oct 2021) EllapsedTime: 55.0 seconds RetCode: 0 Status: OK PackageFile: affycomp_1.68.0.tar.gz PackageFileSize: 7.87 MiB