Package: affycomp Version: 1.68.0 Command: /Library/Frameworks/R.framework/Versions/Current/Resources/bin/R CMD check --install=check:affycomp.install-out.txt --library=/Library/Frameworks/R.framework/Versions/Current/Resources/library --no-vignettes --timings affycomp_1.68.0.tar.gz StartedAt: 2021-10-14 16:07:17 -0400 (Thu, 14 Oct 2021) EndedAt: 2021-10-14 16:08:06 -0400 (Thu, 14 Oct 2021) EllapsedTime: 49.0 seconds RetCode: 0 Status: OK CheckDir: affycomp.Rcheck Warnings: 0