Package: affycomp Version: 1.68.0 Command: /Library/Frameworks/R.framework/Versions/Current/Resources/bin/R CMD build --keep-empty-dirs --no-resave-data affycomp StartedAt: 2021-10-14 10:31:32 -0400 (Thu, 14 Oct 2021) EndedAt: 2021-10-14 10:31:58 -0400 (Thu, 14 Oct 2021) EllapsedTime: 25.9 seconds RetCode: 0 Status: OK PackageFile: affycomp_1.68.0.tar.gz PackageFileSize: 7.867 MiB