Package: affyPLM Version: 1.68.0 Command: /home/biocbuild/bbs-3.13-bioc/R/bin/R CMD check --install=check:affyPLM.install-out.txt --library=/home/biocbuild/bbs-3.13-bioc/R/library --no-vignettes --timings affyPLM_1.68.0.tar.gz StartedAt: 2021-10-14 08:49:31 -0400 (Thu, 14 Oct 2021) EndedAt: 2021-10-14 08:52:23 -0400 (Thu, 14 Oct 2021) EllapsedTime: 171.4 seconds RetCode: 0 Status: WARNINGS CheckDir: affyPLM.Rcheck Warnings: 1