git_url: https://git.bioconductor.org/packages/affyPLM git_branch: RELEASE_3_13 git_last_commit: 492a50a git_last_commit_date: 2021-05-19 11:33:35 -0400 (Wed, 19 May 2021) Package: affyPLM Version: 1.68.0 Maintainer: Ben Bolstad MaintainerEmail: bmb at bmbolstad.com