Package: affyILM Version: 1.44.0 Command: C:\cygwin\bin\curl.exe -O http://155.52.207.165/BBS/3.13/bioc/src/contrib/affyILM_1.44.0.tar.gz && rm -rf affyILM.buildbin-libdir && mkdir affyILM.buildbin-libdir && C:\Users\biocbuild\bbs-3.13-bioc\R\bin\R.exe CMD INSTALL --merge-multiarch --build --library=affyILM.buildbin-libdir affyILM_1.44.0.tar.gz && C:\Users\biocbuild\bbs-3.13-bioc\R\bin\R.exe CMD INSTALL affyILM_1.44.0.zip && rm affyILM_1.44.0.tar.gz affyILM_1.44.0.zip StartedAt: 2021-10-14 07:53:43 -0400 (Thu, 14 Oct 2021) EndedAt: 2021-10-14 07:54:23 -0400 (Thu, 14 Oct 2021) EllapsedTime: 39.8 seconds RetCode: 0 Status: OK