git_url: https://git.bioconductor.org/packages/affy git_branch: RELEASE_3_13 git_last_commit: 9c32d61 git_last_commit_date: 2021-05-19 11:32:58 -0400 (Wed, 19 May 2021) Package: affy Version: 1.70.0 Maintainer: Rafael A. Irizarry MaintainerEmail: rafa at ds.harvard.edu