git_url: https://git.bioconductor.org/packages/adductomicsR git_branch: RELEASE_3_13 git_last_commit: 778448c git_last_commit_date: 2021-05-19 12:40:36 -0400 (Wed, 19 May 2021) Package: adductomicsR Version: 1.8.0 Maintainer: Josie Hayes MaintainerEmail: jlhayes1982 at gmail.com