Package: aCGH Version: 1.70.0 Command: rm -rf aCGH.buildbin-libdir && mkdir aCGH.buildbin-libdir && /Users/biocbuild/BBS/utils/build-universal.sh aCGH_1.70.0.tar.gz /Library/Frameworks/R.framework/Versions/Current/Resources/bin/R aCGH.buildbin-libdir StartedAt: 2021-10-15 01:30:38 -0400 (Fri, 15 Oct 2021) EndedAt: 2021-10-15 01:30:58 -0400 (Fri, 15 Oct 2021) EllapsedTime: 20.4 seconds RetCode: 0 Status: OK PackageFile: aCGH_1.70.0.tgz PackageFileSize: 2.388 MiB