Package: a4Preproc Version: 1.40.0 Command: rm -rf a4Preproc.buildbin-libdir && mkdir a4Preproc.buildbin-libdir && /Users/biocbuild/BBS/utils/build-universal.sh a4Preproc_1.40.0.tar.gz /Library/Frameworks/R.framework/Versions/Current/Resources/bin/R a4Preproc.buildbin-libdir StartedAt: 2021-10-15 01:30:38 -0400 (Fri, 15 Oct 2021) EndedAt: 2021-10-15 01:31:31 -0400 (Fri, 15 Oct 2021) EllapsedTime: 53.2 seconds RetCode: 0 Status: OK PackageFile: a4Preproc_1.40.0.tgz PackageFileSize: 282.1 KiB