git_url: https://git.bioconductor.org/packages/Xeva git_branch: RELEASE_3_13 git_last_commit: f71d6a2 git_last_commit_date: 2021-05-19 12:41:24 -0400 (Wed, 19 May 2021) Package: Xeva Version: 1.8.0 Maintainer: Benjamin Haibe-Kains MaintainerEmail: benjamin.haibe.kains at utoronto.ca